BEGIN:VCALENDAR
VERSION:2.0
PRODID:-//Contratero//ES
CALSCALE:GREGORIAN
METHOD:PUBLISH
BEGIN:VEVENT
UID:2023013370 (Ref. 2716)@contratero.es
DTSTAMP:20260420T002152Z
DTSTART:20230511T235959
DTEND:20230512T005959
SUMMARY:Cierre: Servicio de mantenimiento de la aplicación informá
DESCRIPTION:Servicio de mantenimiento de la aplicación informática SENECA del Ayuntamiento de Ourense\\n\\nOrganismo: Junta de Gobierno del Ayuntamiento de Ourense\\n\\nVer en Contratero: https://contratero.es/contracts/2023013370 (Ref. 2716)
URL:https://contratero.es/contracts/2023013370 (Ref. 2716)
STATUS:CONFIRMED
BEGIN:VALARM
TRIGGER:-P1D
ACTION:DISPLAY
DESCRIPTION:Recordatorio: Servicio de mantenimiento de l
END:VALARM
END:VEVENT
END:VCALENDAR